BEGIN:VCALENDAR
VERSION:2.0
PRODID:-//Distillery University - ECPv6.15.20//NONSGML v1.0//EN
CALSCALE:GREGORIAN
METHOD:PUBLISH
X-WR-CALNAME:Distillery University
X-ORIGINAL-URL:https://distilleryuniversity.com
X-WR-CALDESC:Events for Distillery University
REFRESH-INTERVAL;VALUE=DURATION:PT1H
X-Robots-Tag:noindex
X-PUBLISHED-TTL:PT1H
BEGIN:VTIMEZONE
TZID:America/Los_Angeles
BEGIN:DAYLIGHT
TZOFFSETFROM:-0800
TZOFFSETTO:-0700
TZNAME:PDT
DTSTART:20250309T100000
END:DAYLIGHT
BEGIN:STANDARD
TZOFFSETFROM:-0700
TZOFFSETTO:-0800
TZNAME:PST
DTSTART:20251102T090000
END:STANDARD
BEGIN:DAYLIGHT
TZOFFSETFROM:-0800
TZOFFSETTO:-0700
TZNAME:PDT
DTSTART:20260308T100000
END:DAYLIGHT
BEGIN:STANDARD
TZOFFSETFROM:-0700
TZOFFSETTO:-0800
TZNAME:PST
DTSTART:20261101T090000
END:STANDARD
BEGIN:DAYLIGHT
TZOFFSETFROM:-0800
TZOFFSETTO:-0700
TZNAME:PDT
DTSTART:20270314T100000
END:DAYLIGHT
BEGIN:STANDARD
TZOFFSETFROM:-0700
TZOFFSETTO:-0800
TZNAME:PST
DTSTART:20271107T090000
END:STANDARD
END:VTIMEZONE
BEGIN:VEVENT
DTSTART;TZID=America/Los_Angeles:20260414T180000
DTEND;TZID=America/Los_Angeles:20260430T193000
DTSTAMP:20260423T171027
CREATED:20260209T202749Z
LAST-MODIFIED:20260209T202923Z
UID:101409-1776189600-1777577400@distilleryuniversity.com
SUMMARY:Gin Bootcamp: Spring 2026
DESCRIPTION:Master the art of craft gin in six intensive sessions—taught by an award-winning distiller who’s done it. \nThis live\, interactive bootcamp takes you from botanical basics to blending mastery\, with hands-on guidance from Todd Buckley\, our Director of Education and creator of an industry award-winning gin. \nWhat’s Included: \n\n6 live evening sessions (Tuesdays & Thursdays): April 14\, April 16\, April 21\, April 23\, April 28\, and April 30\nSession times: 6:00–7:30pm PST\nFREE One-Year Membership to all DistilleryUniversity.com courses\, including full bootcamp recordings ($399 value)\nDownloadable materials\, presentation slides\, and a professionally developed craft distillery business plan\nDirect Q&A access with Todd during every session\n\nNeed a payment plan? Email info@distilleryuniversity.com—we’ll work something out. \nClick here to learn more!
URL:https://distilleryuniversity.com/event/gin-bootcamp-spring-2026/
LOCATION:Online
CATEGORIES:Online Workshop
ATTACH;FMTTYPE=image/png:https://distilleryuniversity.com/wp-content/uploads/2026/02/Gin_Bootcamp_Spring_2026.png
END:VEVENT
BEGIN:VEVENT
DTSTART;TZID=America/Los_Angeles:20260501T090000
DTEND;TZID=America/Los_Angeles:20260503T170000
DTSTAMP:20260423T171027
CREATED:20260209T203500Z
LAST-MODIFIED:20260209T203500Z
UID:101415-1777626000-1777827600@distilleryuniversity.com
SUMMARY:3-Day Hands-On Distilling Workshop (Vancouver\, WA) | May 1-3\, 2026
DESCRIPTION:This distilling workshop in Vancouver\, WA puts you on real equipment with master instructors so you can distill with confidence—end to end\, from mash to bottle. Learn real distilling on professional equipment in a working craft distillery. Over 3 days you’ll master mash\, fermentation\, spirit runs & cuts\, proofing\, compliance basics—and leave confident and ready to produce. Plus\, you’ll leave with a bottle of spirits that you personally distilled! \nWhere: Quartz Mountain Distillers\, Vancouver\, WA\nWhen: May 1–3\, 2026\nIncludes: Lifetime Access membership ($499 value) + toolkit + after-hours tasting. \nClick here to learn more!
URL:https://distilleryuniversity.com/event/3-day-hands-on-distilling-workshop-vancouver-wa-may-1-3-2026/
LOCATION:Quartz Mountain Distillers\, 4601 NE 78th St #220\, Vancouver\, WA\, 98665\, United States
CATEGORIES:Hands-on Workshop,Quartz Mountain Distillers
ATTACH;FMTTYPE=image/png:https://distilleryuniversity.com/wp-content/uploads/2026/02/qmd_hands_on_workshop_product_1500.png
END:VEVENT
END:VCALENDAR