BEGIN:VCALENDAR
VERSION:2.0
PRODID:-//Distillery University - ECPv6.15.20//NONSGML v1.0//EN
CALSCALE:GREGORIAN
METHOD:PUBLISH
X-WR-CALNAME:Distillery University
X-ORIGINAL-URL:https://distilleryuniversity.com
X-WR-CALDESC:Events for Distillery University
REFRESH-INTERVAL;VALUE=DURATION:PT1H
X-Robots-Tag:noindex
X-PUBLISHED-TTL:PT1H
BEGIN:VTIMEZONE
TZID:America/Los_Angeles
BEGIN:DAYLIGHT
TZOFFSETFROM:-0800
TZOFFSETTO:-0700
TZNAME:PDT
DTSTART:20240310T100000
END:DAYLIGHT
BEGIN:STANDARD
TZOFFSETFROM:-0700
TZOFFSETTO:-0800
TZNAME:PST
DTSTART:20241103T090000
END:STANDARD
BEGIN:DAYLIGHT
TZOFFSETFROM:-0800
TZOFFSETTO:-0700
TZNAME:PDT
DTSTART:20250309T100000
END:DAYLIGHT
BEGIN:STANDARD
TZOFFSETFROM:-0700
TZOFFSETTO:-0800
TZNAME:PST
DTSTART:20251102T090000
END:STANDARD
BEGIN:DAYLIGHT
TZOFFSETFROM:-0800
TZOFFSETTO:-0700
TZNAME:PDT
DTSTART:20260308T100000
END:DAYLIGHT
BEGIN:STANDARD
TZOFFSETFROM:-0700
TZOFFSETTO:-0800
TZNAME:PST
DTSTART:20261101T090000
END:STANDARD
END:VTIMEZONE
BEGIN:VEVENT
DTSTART;VALUE=DATE:20250912
DTEND;VALUE=DATE:20250915
DTSTAMP:20260423T142732
CREATED:20250424T074555Z
LAST-MODIFIED:20250424T081507Z
UID:97360-1757635200-1757894399@distilleryuniversity.com
SUMMARY:The Ultimate Hands-on Distilling Workshop – Quartz Mountain Distillers
DESCRIPTION:Unlock the Alchemy of Spirits: Your Exclusive Pass to the Ultimate Distilling Workshop\nAre you tired of browsing countless distilling tutorials online only to be left with more questions than answers? Have you ever dreamt of crafting your own signature blend of spirits? If so\, then read on. We’ve crafted an experience that goes beyond mere theory\, delivering you straight into the hands-on world of distillation. \nWhat You Get: An All-Access Pass\n\nReserved Spot for All 3 Days: This is an immersive weekend event\, and your seat is waiting for you.\nLifetime Access Membership: Not only do you get face-to-face time with experts\, but you also get lifetime access to DistilleryUniversity.com\, including all the workshop footage—a $499 value at no extra cost.\nSupplementary Toolkit: Receive PowerPoint presentations\, a business plan template\, fundraising slide deck\, and more\, giving you a holistic educational package.\nExclusive Invitations: Join us for After-Hours Events throughout the weekend\, a priceless networking opportunity.\n\nClick here to learn more.\nYour Professors: Industry Titans\n\nTodd Buckley: Covers everything from the history of American distilling to the nuances of alcohol biology and chemistry.\nDarin & Randy Kyle: Owners of Quartz Mountain Distillers\, walk you through the practicalities of operating high-grade distilling equipment.\n\nHands-On Experience\n\nReal Equipment\, Real Spirits: For the first time\, you’re in control. Manage a professional-grade reflux still and distill your own spirits.\nYour Own Masterpiece: Bring home a bottle of your crafted spirits\, fine-tuned to your preferred strength and flavor profile.\nEnd-to-End Mastery: From mashing and fermentation to bottling\, labeling\, and blending\, this workshop leaves no stone unturned.\n\nWhy This Workshop Is Unlike Any Other\nYou’re not just learning; you’re doing. This is as real as it gets. Whether you’re a beginner looking for a comprehensive distilling overview or an advanced distiller aiming to refine your craft\, this workshop is your stepping stone to distilling success. \nTime is of the Essence\nSpots are limited and filling up rapidly. Don’t miss this once-in-a-lifetime opportunity to elevate your distilling game. \nClick here to learn more.
URL:https://distilleryuniversity.com/event/the-ultimate-hands-on-distilling-workshop-quartz-mountain-distillers/
LOCATION:Quartz Mountain Distillers\, 4601 NE 78th St #220\, Vancouver\, WA\, 98665\, United States
CATEGORIES:Quartz Mountain Distillers
ATTACH;FMTTYPE=image/jpeg:https://distilleryuniversity.com/wp-content/uploads/2025/04/hero.jpg
END:VEVENT
END:VCALENDAR